BEGIN:VCALENDAR
VERSION:2.0
PRODID:-//wp-events-plugin.com//7.2.3.1//EN
TZID:America/Chicago
X-WR-TIMEZONE:America/Chicago
BEGIN:VEVENT
UID:931@greenbayuu.org
DTSTART;TZID=America/Chicago:20231104T090000
DTEND;TZID=America/Chicago:20231104T100000
DTSTAMP:20230921T180053Z
URL:https://greenbayuu.org/events/adopt-a-block-cleaup-2/
SUMMARY:Adopt-A-Block Cleaup
DESCRIPTION:
LOCATION:Green Bay Area Unitarian Universalist Fellowship\, 1313 Main St\, 
 Green Bay\, WI\, 54302\, United States
X-APPLE-STRUCTURED-LOCATION;VALUE=URI;X-ADDRESS=1313 Main St\, Green Bay\, 
 WI\, 54302\, United States;X-APPLE-RADIUS=100;X-TITLE=Green Bay Area Unita
 rian Universalist Fellowship:geo:0,0
END:VEVENT
BEGIN:VTIMEZONE
TZID:America/Chicago
X-LIC-LOCATION:America/Chicago
BEGIN:DAYLIGHT
DTSTART:20230312T030000
TZOFFSETFROM:-0600
TZOFFSETTO:-0500
TZNAME:CDT
END:DAYLIGHT
END:VTIMEZONE
END:VCALENDAR