BEGIN:VCALENDAR
VERSION:2.0
PRODID:-//wp-events-plugin.com//7.2.3.1//EN
TZID:America/Chicago
X-WR-TIMEZONE:America/Chicago
BEGIN:VEVENT
UID:1073@greenbayuu.org
DTSTART;TZID=America/Chicago:20240630T100000
DTEND;TZID=America/Chicago:20240630T113000
DTSTAMP:20240531T003006Z
URL:https://greenbayuu.org/events/bats-being-a-teen-book-group/
SUMMARY:BATS (Being a Teen) Book Group
DESCRIPTION:We will be discussing the book Loki: Where Mischief Lies (Marve
 l Rebels &amp\; Renegades) by Mackenzi Lee. Open to sixth graders and olde
 r.
LOCATION:Green Bay Area Unitarian Universalist Fellowship\, 1313 Main Stree
 t\, Green Bay\, WI \, 54302\, United States
X-APPLE-STRUCTURED-LOCATION;VALUE=URI;X-ADDRESS=1313 Main Street\, Green Ba
 y\, WI \, 54302\, United States;X-APPLE-RADIUS=100;X-TITLE=Green Bay Area 
 Unitarian Universalist Fellowship:geo:0,0
END:VEVENT
BEGIN:VTIMEZONE
TZID:America/Chicago
X-LIC-LOCATION:America/Chicago
BEGIN:DAYLIGHT
DTSTART:20240310T030000
TZOFFSETFROM:-0600
TZOFFSETTO:-0500
TZNAME:CDT
END:DAYLIGHT
END:VTIMEZONE
END:VCALENDAR