BEGIN:VCALENDAR
VERSION:2.0
PRODID:-//wp-events-plugin.com//7.2.3.1//EN
TZID:America/Chicago
X-WR-TIMEZONE:America/Chicago
BEGIN:VEVENT
UID:1119@greenbayuu.org
DTSTART;TZID=America/Chicago:20250118T110000
DTEND;TZID=America/Chicago:20250118T140000
DTSTAMP:20241225T030217Z
URL:https://greenbayuu.org/events/visioning-workshop/
SUMMARY:Visioning Workshop
DESCRIPTION:All members and friends are welcome. Help us to prioritize the 
 ideas that came out of our Focus Group discussions as we move the Green Ba
 y UU Fellowship into the future. Childcare will be provided\, and so will
  lunch – potluck style! If you’re willing\, bring a soup\, bread\, or 
 a dessert to share.
LOCATION:Green Bay Area Unitarian Universalist Fellowship\, 1313 Main Stree
 t\, Green Bay\, WI \, 54302\, United States
X-APPLE-STRUCTURED-LOCATION;VALUE=URI;X-ADDRESS=1313 Main Street\, Green Ba
 y\, WI \, 54302\, United States;X-APPLE-RADIUS=100;X-TITLE=Green Bay Area 
 Unitarian Universalist Fellowship:geo:0,0
END:VEVENT
BEGIN:VTIMEZONE
TZID:America/Chicago
X-LIC-LOCATION:America/Chicago
BEGIN:STANDARD
DTSTART:20241103T010000
TZOFFSETFROM:-0500
TZOFFSETTO:-0600
TZNAME:CST
END:STANDARD
END:VTIMEZONE
END:VCALENDAR